BEGIN:VCALENDAR
VERSION:2.0
PRODID:-//Free Evite//free-evite.com//EN
CALSCALE:GREGORIAN
METHOD:PUBLISH
BEGIN:VEVENT
UID:3549-d3938e2f69c8@freeevite.com
DTSTAMP:20260422T184938Z
DTSTART:20260311T230000Z
DTEND:20260312T003000Z
SUMMARY:March Meeting
DESCRIPTION:\n\nMore info: https://freeevite.com/event.php?e=jCuEMXvhAh6ZH1GbbKeVuQ
LOCATION:University of New Orleans Liberal Arts Building\, 2000 Lakeshore Dr\, Room 138\, New Orleans\, LA\, 70148\, USA
URL:https://freeevite.com/event.php?e=jCuEMXvhAh6ZH1GbbKeVuQ
END:VEVENT
END:VCALENDAR
